BEGIN:VCALENDAR
VERSION:2.0
PRODID:-//Rancho Health MSO Intranet - ECPv6.6.4.2//NONSGML v1.0//EN
CALSCALE:GREGORIAN
METHOD:PUBLISH
X-ORIGINAL-URL:https://intranet.ranchohealth.com
X-WR-CALDESC:Events for Rancho Health MSO Intranet
REFRESH-INTERVAL;VALUE=DURATION:PT1H
X-Robots-Tag:noindex
X-PUBLISHED-TTL:PT1H
BEGIN:VTIMEZONE
TZID:UTC
BEGIN:STANDARD
TZOFFSETFROM:+0000
TZOFFSETTO:+0000
TZNAME:UTC
DTSTART:20270101T000000
END:STANDARD
END:VTIMEZONE
BEGIN:VEVENT
DTSTART;VALUE=DATE:20270201
DTEND;VALUE=DATE:20270202
DTSTAMP:20260420T141213
CREATED:20240220T181341Z
LAST-MODIFIED:20240220T181341Z
UID:10000078-1801440000-1801526399@intranet.ranchohealth.com
SUMMARY:New Hire Orientation
DESCRIPTION:
URL:https://intranet.ranchohealth.com/event/new-hire-orientation/2027-02-01/
CATEGORIES:Administration
END:VEVENT
BEGIN:VEVENT
DTSTART;VALUE=DATE:20270215
DTEND;VALUE=DATE:20270216
DTSTAMP:20260420T141214
CREATED:20240220T181341Z
LAST-MODIFIED:20240220T181341Z
UID:10000079-1802649600-1802735999@intranet.ranchohealth.com
SUMMARY:New Hire Orientation
DESCRIPTION:
URL:https://intranet.ranchohealth.com/event/new-hire-orientation/2027-02-15/
CATEGORIES:Administration
END:VEVENT
BEGIN:VEVENT
DTSTART;VALUE=DATE:20270301
DTEND;VALUE=DATE:20270302
DTSTAMP:20260420T141214
CREATED:20240220T181341Z
LAST-MODIFIED:20240220T181341Z
UID:10000080-1803859200-1803945599@intranet.ranchohealth.com
SUMMARY:New Hire Orientation
DESCRIPTION:
URL:https://intranet.ranchohealth.com/event/new-hire-orientation/2027-03-01/
CATEGORIES:Administration
END:VEVENT
BEGIN:VEVENT
DTSTART;VALUE=DATE:20270315
DTEND;VALUE=DATE:20270316
DTSTAMP:20260420T141214
CREATED:20240220T181341Z
LAST-MODIFIED:20240220T181341Z
UID:10000081-1805068800-1805155199@intranet.ranchohealth.com
SUMMARY:New Hire Orientation
DESCRIPTION:
URL:https://intranet.ranchohealth.com/event/new-hire-orientation/2027-03-15/
CATEGORIES:Administration
END:VEVENT
BEGIN:VEVENT
DTSTART;VALUE=DATE:20270329
DTEND;VALUE=DATE:20270330
DTSTAMP:20260420T141214
CREATED:20240220T181341Z
LAST-MODIFIED:20240220T181341Z
UID:10000082-1806278400-1806364799@intranet.ranchohealth.com
SUMMARY:New Hire Orientation
DESCRIPTION:
URL:https://intranet.ranchohealth.com/event/new-hire-orientation/2027-03-29/
CATEGORIES:Administration
END:VEVENT
BEGIN:VEVENT
DTSTART;VALUE=DATE:20270412
DTEND;VALUE=DATE:20270413
DTSTAMP:20260420T141214
CREATED:20240220T181341Z
LAST-MODIFIED:20240220T181341Z
UID:10000083-1807488000-1807574399@intranet.ranchohealth.com
SUMMARY:New Hire Orientation
DESCRIPTION:
URL:https://intranet.ranchohealth.com/event/new-hire-orientation/2027-04-12/
CATEGORIES:Administration
END:VEVENT
BEGIN:VEVENT
DTSTART;VALUE=DATE:20270426
DTEND;VALUE=DATE:20270427
DTSTAMP:20260420T141214
CREATED:20240220T181341Z
LAST-MODIFIED:20240220T181341Z
UID:10000084-1808697600-1808783999@intranet.ranchohealth.com
SUMMARY:New Hire Orientation
DESCRIPTION:
URL:https://intranet.ranchohealth.com/event/new-hire-orientation/2027-04-26/
CATEGORIES:Administration
END:VEVENT
BEGIN:VEVENT
DTSTART;VALUE=DATE:20270510
DTEND;VALUE=DATE:20270511
DTSTAMP:20260420T141214
CREATED:20240220T181341Z
LAST-MODIFIED:20240220T181341Z
UID:10000085-1809907200-1809993599@intranet.ranchohealth.com
SUMMARY:New Hire Orientation
DESCRIPTION:
URL:https://intranet.ranchohealth.com/event/new-hire-orientation/2027-05-10/
CATEGORIES:Administration
END:VEVENT
BEGIN:VEVENT
DTSTART;VALUE=DATE:20270524
DTEND;VALUE=DATE:20270525
DTSTAMP:20260420T141214
CREATED:20240220T181341Z
LAST-MODIFIED:20240220T181341Z
UID:10000086-1811116800-1811203199@intranet.ranchohealth.com
SUMMARY:New Hire Orientation
DESCRIPTION:
URL:https://intranet.ranchohealth.com/event/new-hire-orientation/2027-05-24/
CATEGORIES:Administration
END:VEVENT
BEGIN:VEVENT
DTSTART;VALUE=DATE:20270607
DTEND;VALUE=DATE:20270608
DTSTAMP:20260420T141214
CREATED:20240220T181341Z
LAST-MODIFIED:20240220T181341Z
UID:10000087-1812326400-1812412799@intranet.ranchohealth.com
SUMMARY:New Hire Orientation
DESCRIPTION:
URL:https://intranet.ranchohealth.com/event/new-hire-orientation/2027-06-07/
CATEGORIES:Administration
END:VEVENT
BEGIN:VEVENT
DTSTART;VALUE=DATE:20270621
DTEND;VALUE=DATE:20270622
DTSTAMP:20260420T141214
CREATED:20240220T181341Z
LAST-MODIFIED:20240220T181341Z
UID:10000088-1813536000-1813622399@intranet.ranchohealth.com
SUMMARY:New Hire Orientation
DESCRIPTION:
URL:https://intranet.ranchohealth.com/event/new-hire-orientation/2027-06-21/
CATEGORIES:Administration
END:VEVENT
BEGIN:VEVENT
DTSTART;VALUE=DATE:20270705
DTEND;VALUE=DATE:20270706
DTSTAMP:20260420T141214
CREATED:20240220T181341Z
LAST-MODIFIED:20240220T181341Z
UID:10000089-1814745600-1814831999@intranet.ranchohealth.com
SUMMARY:New Hire Orientation
DESCRIPTION:
URL:https://intranet.ranchohealth.com/event/new-hire-orientation/2027-07-05/
CATEGORIES:Administration
END:VEVENT
BEGIN:VEVENT
DTSTART;VALUE=DATE:20270719
DTEND;VALUE=DATE:20270720
DTSTAMP:20260420T141214
CREATED:20240220T181341Z
LAST-MODIFIED:20240220T181341Z
UID:10000090-1815955200-1816041599@intranet.ranchohealth.com
SUMMARY:New Hire Orientation
DESCRIPTION:
URL:https://intranet.ranchohealth.com/event/new-hire-orientation/2027-07-19/
CATEGORIES:Administration
END:VEVENT
BEGIN:VEVENT
DTSTART;VALUE=DATE:20270802
DTEND;VALUE=DATE:20270803
DTSTAMP:20260420T141214
CREATED:20240220T181341Z
LAST-MODIFIED:20240220T181341Z
UID:10000091-1817164800-1817251199@intranet.ranchohealth.com
SUMMARY:New Hire Orientation
DESCRIPTION:
URL:https://intranet.ranchohealth.com/event/new-hire-orientation/2027-08-02/
CATEGORIES:Administration
END:VEVENT
BEGIN:VEVENT
DTSTART;VALUE=DATE:20270816
DTEND;VALUE=DATE:20270817
DTSTAMP:20260420T141214
CREATED:20240220T181341Z
LAST-MODIFIED:20240220T181341Z
UID:10000092-1818374400-1818460799@intranet.ranchohealth.com
SUMMARY:New Hire Orientation
DESCRIPTION:
URL:https://intranet.ranchohealth.com/event/new-hire-orientation/2027-08-16/
CATEGORIES:Administration
END:VEVENT
BEGIN:VEVENT
DTSTART;VALUE=DATE:20270830
DTEND;VALUE=DATE:20270831
DTSTAMP:20260420T141214
CREATED:20240220T181341Z
LAST-MODIFIED:20240220T181341Z
UID:10000093-1819584000-1819670399@intranet.ranchohealth.com
SUMMARY:New Hire Orientation
DESCRIPTION:
URL:https://intranet.ranchohealth.com/event/new-hire-orientation/2027-08-30/
CATEGORIES:Administration
END:VEVENT
BEGIN:VEVENT
DTSTART;VALUE=DATE:20270913
DTEND;VALUE=DATE:20270914
DTSTAMP:20260420T141214
CREATED:20240220T181341Z
LAST-MODIFIED:20240220T181341Z
UID:10000094-1820793600-1820879999@intranet.ranchohealth.com
SUMMARY:New Hire Orientation
DESCRIPTION:
URL:https://intranet.ranchohealth.com/event/new-hire-orientation/2027-09-13/
CATEGORIES:Administration
END:VEVENT
BEGIN:VEVENT
DTSTART;VALUE=DATE:20270927
DTEND;VALUE=DATE:20270928
DTSTAMP:20260420T141214
CREATED:20240220T181341Z
LAST-MODIFIED:20240220T181341Z
UID:10000095-1822003200-1822089599@intranet.ranchohealth.com
SUMMARY:New Hire Orientation
DESCRIPTION:
URL:https://intranet.ranchohealth.com/event/new-hire-orientation/2027-09-27/
CATEGORIES:Administration
END:VEVENT
BEGIN:VEVENT
DTSTART;VALUE=DATE:20271011
DTEND;VALUE=DATE:20271012
DTSTAMP:20260420T141214
CREATED:20240220T181341Z
LAST-MODIFIED:20240220T181341Z
UID:10000096-1823212800-1823299199@intranet.ranchohealth.com
SUMMARY:New Hire Orientation
DESCRIPTION:
URL:https://intranet.ranchohealth.com/event/new-hire-orientation/2027-10-11/
CATEGORIES:Administration
END:VEVENT
BEGIN:VEVENT
DTSTART;VALUE=DATE:20271025
DTEND;VALUE=DATE:20271026
DTSTAMP:20260420T141214
CREATED:20240220T181341Z
LAST-MODIFIED:20240220T181341Z
UID:10000097-1824422400-1824508799@intranet.ranchohealth.com
SUMMARY:New Hire Orientation
DESCRIPTION:
URL:https://intranet.ranchohealth.com/event/new-hire-orientation/2027-10-25/
CATEGORIES:Administration
END:VEVENT
BEGIN:VEVENT
DTSTART;VALUE=DATE:20271108
DTEND;VALUE=DATE:20271109
DTSTAMP:20260420T141214
CREATED:20240220T181341Z
LAST-MODIFIED:20240220T181341Z
UID:10000098-1825632000-1825718399@intranet.ranchohealth.com
SUMMARY:New Hire Orientation
DESCRIPTION:
URL:https://intranet.ranchohealth.com/event/new-hire-orientation/2027-11-08/
CATEGORIES:Administration
END:VEVENT
BEGIN:VEVENT
DTSTART;VALUE=DATE:20271122
DTEND;VALUE=DATE:20271123
DTSTAMP:20260420T141214
CREATED:20240220T181341Z
LAST-MODIFIED:20240220T181341Z
UID:10000099-1826841600-1826927999@intranet.ranchohealth.com
SUMMARY:New Hire Orientation
DESCRIPTION:
URL:https://intranet.ranchohealth.com/event/new-hire-orientation/2027-11-22/
CATEGORIES:Administration
END:VEVENT
BEGIN:VEVENT
DTSTART;VALUE=DATE:20271206
DTEND;VALUE=DATE:20271207
DTSTAMP:20260420T141214
CREATED:20240220T181341Z
LAST-MODIFIED:20240220T181341Z
UID:10000100-1828051200-1828137599@intranet.ranchohealth.com
SUMMARY:New Hire Orientation
DESCRIPTION:
URL:https://intranet.ranchohealth.com/event/new-hire-orientation/2027-12-06/
CATEGORIES:Administration
END:VEVENT
BEGIN:VEVENT
DTSTART;VALUE=DATE:20271220
DTEND;VALUE=DATE:20271221
DTSTAMP:20260420T141214
CREATED:20240220T181341Z
LAST-MODIFIED:20240220T181341Z
UID:10000101-1829260800-1829347199@intranet.ranchohealth.com
SUMMARY:New Hire Orientation
DESCRIPTION:
URL:https://intranet.ranchohealth.com/event/new-hire-orientation/2027-12-20/
CATEGORIES:Administration
END:VEVENT
BEGIN:VEVENT
DTSTART;VALUE=DATE:20280103
DTEND;VALUE=DATE:20280104
DTSTAMP:20260420T141214
CREATED:20240220T181341Z
LAST-MODIFIED:20240220T181341Z
UID:10000102-1830470400-1830556799@intranet.ranchohealth.com
SUMMARY:New Hire Orientation
DESCRIPTION:
URL:https://intranet.ranchohealth.com/event/new-hire-orientation/2028-01-03/
CATEGORIES:Administration
END:VEVENT
BEGIN:VEVENT
DTSTART;VALUE=DATE:20280117
DTEND;VALUE=DATE:20280118
DTSTAMP:20260420T141214
CREATED:20240220T181341Z
LAST-MODIFIED:20240220T181341Z
UID:10000103-1831680000-1831766399@intranet.ranchohealth.com
SUMMARY:New Hire Orientation
DESCRIPTION:
URL:https://intranet.ranchohealth.com/event/new-hire-orientation/2028-01-17/
CATEGORIES:Administration
END:VEVENT
BEGIN:VEVENT
DTSTART;VALUE=DATE:20280131
DTEND;VALUE=DATE:20280201
DTSTAMP:20260420T141214
CREATED:20240220T181341Z
LAST-MODIFIED:20240220T181341Z
UID:10000104-1832889600-1832975999@intranet.ranchohealth.com
SUMMARY:New Hire Orientation
DESCRIPTION:
URL:https://intranet.ranchohealth.com/event/new-hire-orientation/2028-01-31/
CATEGORIES:Administration
END:VEVENT
BEGIN:VEVENT
DTSTART;VALUE=DATE:20280214
DTEND;VALUE=DATE:20280215
DTSTAMP:20260420T141214
CREATED:20240220T181341Z
LAST-MODIFIED:20240220T181341Z
UID:10000105-1834099200-1834185599@intranet.ranchohealth.com
SUMMARY:New Hire Orientation
DESCRIPTION:
URL:https://intranet.ranchohealth.com/event/new-hire-orientation/2028-02-14/
CATEGORIES:Administration
END:VEVENT
BEGIN:VEVENT
DTSTART;VALUE=DATE:20280228
DTEND;VALUE=DATE:20280229
DTSTAMP:20260420T141214
CREATED:20240220T181341Z
LAST-MODIFIED:20240220T181341Z
UID:10000106-1835308800-1835395199@intranet.ranchohealth.com
SUMMARY:New Hire Orientation
DESCRIPTION:
URL:https://intranet.ranchohealth.com/event/new-hire-orientation/2028-02-28/
CATEGORIES:Administration
END:VEVENT
BEGIN:VEVENT
DTSTART;VALUE=DATE:20280313
DTEND;VALUE=DATE:20280314
DTSTAMP:20260420T141214
CREATED:20240220T181341Z
LAST-MODIFIED:20240220T181341Z
UID:10000107-1836518400-1836604799@intranet.ranchohealth.com
SUMMARY:New Hire Orientation
DESCRIPTION:
URL:https://intranet.ranchohealth.com/event/new-hire-orientation/2028-03-13/
CATEGORIES:Administration
END:VEVENT
END:VCALENDAR