BEGIN:VCALENDAR
VERSION:2.0
PRODID:-//Rancho Health MSO Intranet - ECPv6.6.4.2//NONSGML v1.0//EN
CALSCALE:GREGORIAN
METHOD:PUBLISH
X-ORIGINAL-URL:https://intranet.ranchohealth.com
X-WR-CALDESC:Events for Rancho Health MSO Intranet
REFRESH-INTERVAL;VALUE=DURATION:PT1H
X-Robots-Tag:noindex
X-PUBLISHED-TTL:PT1H
BEGIN:VTIMEZONE
TZID:UTC
BEGIN:STANDARD
TZOFFSETFROM:+0000
TZOFFSETTO:+0000
TZNAME:UTC
DTSTART:20260101T000000
END:STANDARD
END:VTIMEZONE
BEGIN:VEVENT
DTSTART;VALUE=DATE:20260904
DTEND;VALUE=DATE:20260905
DTSTAMP:20260421T213240
CREATED:20240220T182226Z
LAST-MODIFIED:20240220T182226Z
UID:10000198-1788480000-1788566399@intranet.ranchohealth.com
SUMMARY:$$Pay Day$$
DESCRIPTION:
URL:https://intranet.ranchohealth.com/event/pay-day/2026-09-04/
CATEGORIES:Administration
END:VEVENT
BEGIN:VEVENT
DTSTART;VALUE=DATE:20260914
DTEND;VALUE=DATE:20260915
DTSTAMP:20260421T213240
CREATED:20240220T181341Z
LAST-MODIFIED:20240220T181341Z
UID:10000068-1789344000-1789430399@intranet.ranchohealth.com
SUMMARY:New Hire Orientation
DESCRIPTION:
URL:https://intranet.ranchohealth.com/event/new-hire-orientation/2026-09-14/
CATEGORIES:Administration
END:VEVENT
BEGIN:VEVENT
DTSTART;VALUE=DATE:20260918
DTEND;VALUE=DATE:20260919
DTSTAMP:20260421T213240
CREATED:20240220T182226Z
LAST-MODIFIED:20240220T182226Z
UID:10000199-1789689600-1789775999@intranet.ranchohealth.com
SUMMARY:$$Pay Day$$
DESCRIPTION:
URL:https://intranet.ranchohealth.com/event/pay-day/2026-09-18/
CATEGORIES:Administration
END:VEVENT
BEGIN:VEVENT
DTSTART;VALUE=DATE:20260928
DTEND;VALUE=DATE:20260929
DTSTAMP:20260421T213240
CREATED:20240220T181341Z
LAST-MODIFIED:20240220T181341Z
UID:10000069-1790553600-1790639999@intranet.ranchohealth.com
SUMMARY:New Hire Orientation
DESCRIPTION:
URL:https://intranet.ranchohealth.com/event/new-hire-orientation/2026-09-28/
CATEGORIES:Administration
END:VEVENT
END:VCALENDAR