BEGIN:VCALENDAR
VERSION:2.0
PRODID:-//Rancho Health MSO Intranet - ECPv6.6.4.2//NONSGML v1.0//EN
CALSCALE:GREGORIAN
METHOD:PUBLISH
X-ORIGINAL-URL:https://intranet.ranchohealth.com
X-WR-CALDESC:Events for Rancho Health MSO Intranet
REFRESH-INTERVAL;VALUE=DURATION:PT1H
X-Robots-Tag:noindex
X-PUBLISHED-TTL:PT1H
BEGIN:VTIMEZONE
TZID:UTC
BEGIN:STANDARD
TZOFFSETFROM:+0000
TZOFFSETTO:+0000
TZNAME:UTC
DTSTART:20280101T000000
END:STANDARD
END:VTIMEZONE
BEGIN:VEVENT
DTSTART;VALUE=DATE:20280327
DTEND;VALUE=DATE:20280328
DTSTAMP:20260420T063725
CREATED:20240220T181341Z
LAST-MODIFIED:20240220T181341Z
UID:10000108-1837728000-1837814399@intranet.ranchohealth.com
SUMMARY:New Hire Orientation
DESCRIPTION:
URL:https://intranet.ranchohealth.com/event/new-hire-orientation/2028-03-27/
CATEGORIES:Administration
END:VEVENT
BEGIN:VEVENT
DTSTART;VALUE=DATE:20280331
DTEND;VALUE=DATE:20280401
DTSTAMP:20260420T063725
CREATED:20240220T182226Z
LAST-MODIFIED:20240220T182226Z
UID:10000239-1838073600-1838159999@intranet.ranchohealth.com
SUMMARY:$$Pay Day$$
DESCRIPTION:
URL:https://intranet.ranchohealth.com/event/pay-day/2028-03-31/
CATEGORIES:Administration
END:VEVENT
BEGIN:VEVENT
DTSTART;VALUE=DATE:20280410
DTEND;VALUE=DATE:20280411
DTSTAMP:20260420T063725
CREATED:20240220T181341Z
LAST-MODIFIED:20240220T181341Z
UID:10000109-1838937600-1839023999@intranet.ranchohealth.com
SUMMARY:New Hire Orientation
DESCRIPTION:
URL:https://intranet.ranchohealth.com/event/new-hire-orientation/2028-04-10/
CATEGORIES:Administration
END:VEVENT
BEGIN:VEVENT
DTSTART;VALUE=DATE:20280414
DTEND;VALUE=DATE:20280415
DTSTAMP:20260420T063725
CREATED:20240220T182226Z
LAST-MODIFIED:20240220T182226Z
UID:10000240-1839283200-1839369599@intranet.ranchohealth.com
SUMMARY:$$Pay Day$$
DESCRIPTION:
URL:https://intranet.ranchohealth.com/event/pay-day/2028-04-14/
CATEGORIES:Administration
END:VEVENT
BEGIN:VEVENT
DTSTART;VALUE=DATE:20280424
DTEND;VALUE=DATE:20280425
DTSTAMP:20260420T063725
CREATED:20240220T181341Z
LAST-MODIFIED:20240220T181341Z
UID:10000110-1840147200-1840233599@intranet.ranchohealth.com
SUMMARY:New Hire Orientation
DESCRIPTION:
URL:https://intranet.ranchohealth.com/event/new-hire-orientation/2028-04-24/
CATEGORIES:Administration
END:VEVENT
BEGIN:VEVENT
DTSTART;VALUE=DATE:20280428
DTEND;VALUE=DATE:20280429
DTSTAMP:20260420T063725
CREATED:20240220T182226Z
LAST-MODIFIED:20240220T182226Z
UID:10000241-1840492800-1840579199@intranet.ranchohealth.com
SUMMARY:$$Pay Day$$
DESCRIPTION:
URL:https://intranet.ranchohealth.com/event/pay-day/2028-04-28/
CATEGORIES:Administration
END:VEVENT
BEGIN:VEVENT
DTSTART;VALUE=DATE:20280508
DTEND;VALUE=DATE:20280509
DTSTAMP:20260420T063725
CREATED:20240220T181341Z
LAST-MODIFIED:20240220T181341Z
UID:10000111-1841356800-1841443199@intranet.ranchohealth.com
SUMMARY:New Hire Orientation
DESCRIPTION:
URL:https://intranet.ranchohealth.com/event/new-hire-orientation/2028-05-08/
CATEGORIES:Administration
END:VEVENT
BEGIN:VEVENT
DTSTART;VALUE=DATE:20280512
DTEND;VALUE=DATE:20280513
DTSTAMP:20260420T063725
CREATED:20240220T182226Z
LAST-MODIFIED:20240220T182226Z
UID:10000242-1841702400-1841788799@intranet.ranchohealth.com
SUMMARY:$$Pay Day$$
DESCRIPTION:
URL:https://intranet.ranchohealth.com/event/pay-day/2028-05-12/
CATEGORIES:Administration
END:VEVENT
BEGIN:VEVENT
DTSTART;VALUE=DATE:20280522
DTEND;VALUE=DATE:20280523
DTSTAMP:20260420T063725
CREATED:20240220T181341Z
LAST-MODIFIED:20240220T181341Z
UID:10000112-1842566400-1842652799@intranet.ranchohealth.com
SUMMARY:New Hire Orientation
DESCRIPTION:
URL:https://intranet.ranchohealth.com/event/new-hire-orientation/2028-05-22/
CATEGORIES:Administration
END:VEVENT
BEGIN:VEVENT
DTSTART;VALUE=DATE:20280526
DTEND;VALUE=DATE:20280527
DTSTAMP:20260420T063725
CREATED:20240220T182226Z
LAST-MODIFIED:20240220T182226Z
UID:10000243-1842912000-1842998399@intranet.ranchohealth.com
SUMMARY:$$Pay Day$$
DESCRIPTION:
URL:https://intranet.ranchohealth.com/event/pay-day/2028-05-26/
CATEGORIES:Administration
END:VEVENT
BEGIN:VEVENT
DTSTART;VALUE=DATE:20280605
DTEND;VALUE=DATE:20280606
DTSTAMP:20260420T063725
CREATED:20240220T181341Z
LAST-MODIFIED:20240220T181341Z
UID:10000113-1843776000-1843862399@intranet.ranchohealth.com
SUMMARY:New Hire Orientation
DESCRIPTION:
URL:https://intranet.ranchohealth.com/event/new-hire-orientation/2028-06-05/
CATEGORIES:Administration
END:VEVENT
BEGIN:VEVENT
DTSTART;VALUE=DATE:20280609
DTEND;VALUE=DATE:20280610
DTSTAMP:20260420T063725
CREATED:20240220T182226Z
LAST-MODIFIED:20240220T182226Z
UID:10000244-1844121600-1844207999@intranet.ranchohealth.com
SUMMARY:$$Pay Day$$
DESCRIPTION:
URL:https://intranet.ranchohealth.com/event/pay-day/2028-06-09/
CATEGORIES:Administration
END:VEVENT
BEGIN:VEVENT
DTSTART;VALUE=DATE:20280619
DTEND;VALUE=DATE:20280620
DTSTAMP:20260420T063725
CREATED:20240220T181341Z
LAST-MODIFIED:20240220T181341Z
UID:10000114-1844985600-1845071999@intranet.ranchohealth.com
SUMMARY:New Hire Orientation
DESCRIPTION:
URL:https://intranet.ranchohealth.com/event/new-hire-orientation/2028-06-19/
CATEGORIES:Administration
END:VEVENT
BEGIN:VEVENT
DTSTART;VALUE=DATE:20280623
DTEND;VALUE=DATE:20280624
DTSTAMP:20260420T063725
CREATED:20240220T182226Z
LAST-MODIFIED:20240220T182226Z
UID:10000245-1845331200-1845417599@intranet.ranchohealth.com
SUMMARY:$$Pay Day$$
DESCRIPTION:
URL:https://intranet.ranchohealth.com/event/pay-day/2028-06-23/
CATEGORIES:Administration
END:VEVENT
BEGIN:VEVENT
DTSTART;VALUE=DATE:20280703
DTEND;VALUE=DATE:20280704
DTSTAMP:20260420T063725
CREATED:20240220T181341Z
LAST-MODIFIED:20240220T181341Z
UID:10000115-1846195200-1846281599@intranet.ranchohealth.com
SUMMARY:New Hire Orientation
DESCRIPTION:
URL:https://intranet.ranchohealth.com/event/new-hire-orientation/2028-07-03/
CATEGORIES:Administration
END:VEVENT
BEGIN:VEVENT
DTSTART;VALUE=DATE:20280707
DTEND;VALUE=DATE:20280708
DTSTAMP:20260420T063725
CREATED:20240220T182226Z
LAST-MODIFIED:20240220T182226Z
UID:10000246-1846540800-1846627199@intranet.ranchohealth.com
SUMMARY:$$Pay Day$$
DESCRIPTION:
URL:https://intranet.ranchohealth.com/event/pay-day/2028-07-07/
CATEGORIES:Administration
END:VEVENT
BEGIN:VEVENT
DTSTART;VALUE=DATE:20280717
DTEND;VALUE=DATE:20280718
DTSTAMP:20260420T063725
CREATED:20240220T181341Z
LAST-MODIFIED:20240220T181341Z
UID:10000116-1847404800-1847491199@intranet.ranchohealth.com
SUMMARY:New Hire Orientation
DESCRIPTION:
URL:https://intranet.ranchohealth.com/event/new-hire-orientation/2028-07-17/
CATEGORIES:Administration
END:VEVENT
BEGIN:VEVENT
DTSTART;VALUE=DATE:20280721
DTEND;VALUE=DATE:20280722
DTSTAMP:20260420T063725
CREATED:20240220T182226Z
LAST-MODIFIED:20240220T182226Z
UID:10000247-1847750400-1847836799@intranet.ranchohealth.com
SUMMARY:$$Pay Day$$
DESCRIPTION:
URL:https://intranet.ranchohealth.com/event/pay-day/2028-07-21/
CATEGORIES:Administration
END:VEVENT
BEGIN:VEVENT
DTSTART;VALUE=DATE:20280731
DTEND;VALUE=DATE:20280801
DTSTAMP:20260420T063725
CREATED:20240220T181341Z
LAST-MODIFIED:20240220T181341Z
UID:10000117-1848614400-1848700799@intranet.ranchohealth.com
SUMMARY:New Hire Orientation
DESCRIPTION:
URL:https://intranet.ranchohealth.com/event/new-hire-orientation/2028-07-31/
CATEGORIES:Administration
END:VEVENT
BEGIN:VEVENT
DTSTART;VALUE=DATE:20280804
DTEND;VALUE=DATE:20280805
DTSTAMP:20260420T063725
CREATED:20240220T182226Z
LAST-MODIFIED:20240220T182226Z
UID:10000248-1848960000-1849046399@intranet.ranchohealth.com
SUMMARY:$$Pay Day$$
DESCRIPTION:
URL:https://intranet.ranchohealth.com/event/pay-day/2028-08-04/
CATEGORIES:Administration
END:VEVENT
BEGIN:VEVENT
DTSTART;VALUE=DATE:20280814
DTEND;VALUE=DATE:20280815
DTSTAMP:20260420T063725
CREATED:20240220T181341Z
LAST-MODIFIED:20240220T181341Z
UID:10000118-1849824000-1849910399@intranet.ranchohealth.com
SUMMARY:New Hire Orientation
DESCRIPTION:
URL:https://intranet.ranchohealth.com/event/new-hire-orientation/2028-08-14/
CATEGORIES:Administration
END:VEVENT
BEGIN:VEVENT
DTSTART;VALUE=DATE:20280818
DTEND;VALUE=DATE:20280819
DTSTAMP:20260420T063725
CREATED:20240220T182226Z
LAST-MODIFIED:20240220T182226Z
UID:10000249-1850169600-1850255999@intranet.ranchohealth.com
SUMMARY:$$Pay Day$$
DESCRIPTION:
URL:https://intranet.ranchohealth.com/event/pay-day/2028-08-18/
CATEGORIES:Administration
END:VEVENT
BEGIN:VEVENT
DTSTART;VALUE=DATE:20280828
DTEND;VALUE=DATE:20280829
DTSTAMP:20260420T063725
CREATED:20240220T181341Z
LAST-MODIFIED:20240220T181341Z
UID:10000119-1851033600-1851119999@intranet.ranchohealth.com
SUMMARY:New Hire Orientation
DESCRIPTION:
URL:https://intranet.ranchohealth.com/event/new-hire-orientation/2028-08-28/
CATEGORIES:Administration
END:VEVENT
BEGIN:VEVENT
DTSTART;VALUE=DATE:20280901
DTEND;VALUE=DATE:20280902
DTSTAMP:20260420T063725
CREATED:20240220T182226Z
LAST-MODIFIED:20240220T182226Z
UID:10000250-1851379200-1851465599@intranet.ranchohealth.com
SUMMARY:$$Pay Day$$
DESCRIPTION:
URL:https://intranet.ranchohealth.com/event/pay-day/2028-09-01/
CATEGORIES:Administration
END:VEVENT
BEGIN:VEVENT
DTSTART;VALUE=DATE:20280911
DTEND;VALUE=DATE:20280912
DTSTAMP:20260420T063725
CREATED:20240220T181341Z
LAST-MODIFIED:20240220T181341Z
UID:10000120-1852243200-1852329599@intranet.ranchohealth.com
SUMMARY:New Hire Orientation
DESCRIPTION:
URL:https://intranet.ranchohealth.com/event/new-hire-orientation/2028-09-11/
CATEGORIES:Administration
END:VEVENT
BEGIN:VEVENT
DTSTART;VALUE=DATE:20280915
DTEND;VALUE=DATE:20280916
DTSTAMP:20260420T063725
CREATED:20240220T182226Z
LAST-MODIFIED:20240220T182226Z
UID:10000251-1852588800-1852675199@intranet.ranchohealth.com
SUMMARY:$$Pay Day$$
DESCRIPTION:
URL:https://intranet.ranchohealth.com/event/pay-day/2028-09-15/
CATEGORIES:Administration
END:VEVENT
BEGIN:VEVENT
DTSTART;VALUE=DATE:20280925
DTEND;VALUE=DATE:20280926
DTSTAMP:20260420T063725
CREATED:20240220T181341Z
LAST-MODIFIED:20240220T181341Z
UID:10000121-1853452800-1853539199@intranet.ranchohealth.com
SUMMARY:New Hire Orientation
DESCRIPTION:
URL:https://intranet.ranchohealth.com/event/new-hire-orientation/2028-09-25/
CATEGORIES:Administration
END:VEVENT
BEGIN:VEVENT
DTSTART;VALUE=DATE:20280929
DTEND;VALUE=DATE:20280930
DTSTAMP:20260420T063725
CREATED:20240220T182226Z
LAST-MODIFIED:20240220T182226Z
UID:10000252-1853798400-1853884799@intranet.ranchohealth.com
SUMMARY:$$Pay Day$$
DESCRIPTION:
URL:https://intranet.ranchohealth.com/event/pay-day/2028-09-29/
CATEGORIES:Administration
END:VEVENT
BEGIN:VEVENT
DTSTART;VALUE=DATE:20281009
DTEND;VALUE=DATE:20281010
DTSTAMP:20260420T063725
CREATED:20240220T181341Z
LAST-MODIFIED:20240220T181341Z
UID:10000122-1854662400-1854748799@intranet.ranchohealth.com
SUMMARY:New Hire Orientation
DESCRIPTION:
URL:https://intranet.ranchohealth.com/event/new-hire-orientation/2028-10-09/
CATEGORIES:Administration
END:VEVENT
BEGIN:VEVENT
DTSTART;VALUE=DATE:20281013
DTEND;VALUE=DATE:20281014
DTSTAMP:20260420T063725
CREATED:20240220T182226Z
LAST-MODIFIED:20240220T182226Z
UID:10000253-1855008000-1855094399@intranet.ranchohealth.com
SUMMARY:$$Pay Day$$
DESCRIPTION:
URL:https://intranet.ranchohealth.com/event/pay-day/2028-10-13/
CATEGORIES:Administration
END:VEVENT
END:VCALENDAR